 BEGIN:VCALENDAR
VERSION:2.0
PRODID:-// - ECPv4.9.2//NONSGML v1.0//EN
CALSCALE:GREGORIAN
METHOD:PUBLISH
X-ORIGINAL-URL:http://lastjeandanslesudouest.com
X-WR-CALDESC:Évènements pour 
BEGIN:VEVENT
DTSTART;TZID=America/New_York:20190623T171500
DTEND;TZID=America/New_York:20190623T183000
DTSTAMP:20260422T092024
CREATED:20190606T174054Z
LAST-MODIFIED:20190606T174059Z
UID:1795-1561310100-1561314600@lastjeandanslesudouest.com
SUMMARY:Colin Moore
DESCRIPTION:\n\n\n\n\n\n\n\n
URL:http://lastjeandanslesudouest.com/event/colin-moore/
LOCATION:PLACE DU BONHEUR D’OCCASION\, 506-522 Rue Rose-de-Lima\, Montréal\, QC\, H4C 2L4\, Canada
CATEGORIES:Spectacle musical
ATTACH;FMTTYPE=image/jpeg:http://lastjeandanslesudouest.com/wp-content/uploads/2019/06/colinmoore.jpg
END:VEVENT
END:VCALENDAR